Workbook

Sheet Grille
B2: Grille d'observation de l'animation d’un groupe
B3: Pierre Dostie, t.s., MSS, Département des Sciences humaines, Université du Québec à Chicoutimi
B6: Date: | E6: Animateur-trice:
B8: Observateur-trice: | G8: Auto-évaluation (cochez):
B10: Consigne: pour chaque item, cotez de 0 à 4, selon le degré auquel l'animateur-trice a utilisé la technique lorsque celle-ci était requise. Expliquez votre cote dans la case «remarques». 0: Pas du tout alors que cela aurait été nécessaire; 1: Pas suffisamment alors que cela aurait été nécessaire; 2: Chaque fois que nécessaire; 3: Pas nécessaire, le groupe s'en charge; 4: Pas nécessaire, ne s'applique pas dans le contexte.
B12: Techniques | F12: 0-4 | G12: Remarques / Indicateurs
A14: A | B14: Techniques favorisant le bon déroulement de la rencontre (processus)
B16: Phase de démarrage
A17: 1. | B17: Se présenter et inviter les membres à se présenter au groupe
A18: 2. | B18: Faire un retour sur / des liens avec la rencontre précédente (décisions, suites, etc).
A19: 3. | B19: Présenter les objectifs de la rencontre, le thème de la discussion ou le travail à produire.
A20: 4. | B20: S’assurer de la compréhension de tous et apporter les clarifications nécessaires.
A21: 5. | B21: Vérifier l’intérêt des membres pour la cible commune, susciter leurs réactions et apporter les modifications nécessaires.
A22: 6. | B22: S’assurer du consensus du groupe sur la cible et sur les procédures à utiliser pour les discussions, les décisions, la tâche, etc.
B24: Phase de travail
A26: 7. | B26: Maintenir l’équilibre des interactions avec la cible (production) et entre les membres (communication).
A27: 8. | B27: Se faire le gardien du processus en évitant d’être distrait par le contenu.
A28: 9. | B28: Surveiller le temps et les signes de fatigue.
B30: Phase de terminaison
A32: 10. | B32: Faire une synthèse du travail réalisé et chercher avec le groupe les suites à donner à la rencontre.
A33: 11. | B33: Évaluer la rencontre avec le groupe (atteinte des objectifs, fonctionnement, relations interpersonnelles, satisfaction générale).
A34: 12. | B34: S’assurer des modalités d’une prochaine rencontre (date, lieu, préparation, etc).
A37: B | B37: Techniques visant à stimuler et faire progresser la discussion/production
A39: 13. | B39: Rappeler les règles de la discussion/de fonctionnement.
A40: 14. | B40: Inviter un membre (appel direct) ou le groupe (appel général) à donner des idées, des opinions sur le sujet à discuter.
A41: 15. | B41: Demander des clarifications ou des précisions sur une idée ou un terme ambigü.
A42: 16. | B42: Reformuler l'intervention d'un membre (pour lui faire écho, pour la clarifier ou pour confirmer "message compris").
A43: 17. | B43: Faire des liens entre des idées exprimées ou un vécu commun (relais) et généraliser au groupe s’il y a lieu.
A44: 18. | B44: Partialiser: retenir un élément utile de l’intervention d'un membre et le relancer au groupe.
A45: 19. | B45: Explorer une idée, un aspect de la discussion, une piste de travail (recherche d'information, de faits, par des questions).
A46: 20. | B46: Donner de l'information.
... A88: 53. | B88: Garder un contact visuel avec les membres et le groupe (balayage).
B89: Références: Deschênes Pierre (1992). Protocole d'observation des fonctions d'animation. Recueil de textes dans le cadre du cours “Comportement organisationnel”, ENAP. Dostie Pierre (1993). "Grille d'observation des comportements des intervenants de groupe". in L'impact de la supervision sur la mobilisation des forces du groupe en réadaptation. Essai de Maîtrise, U. Laval. Middleman Ruth R. “Habiletés propres au travail avec le groupe comme entité”. Revue Service social, vol. 39, no 1, 1990. St-Arnaud Yves (1989). Les petits groupes, participation et communication. Presses de l'U. de Montréal.

Sheet Cote
A1: Université du Québec à Chicoutimi
A2: Département des sciences humaines, Unité d'intervention en travail social
A4: Feuille de calcul des scores de la grille d'observation de l'animation d'un groupe
A5: Pierre Dostie, t.s., chargé de cours
A7: La compilation de vos cotes apparait dans les zones bleues
A8: Les résultats en % apparaissent dans les zones saumon
B10: Processus | D10: Production | F10: Communication | H10: Intégration | J10: Attitudes | L10: Score général
B11: % | D11: % | F11: % | H11: % | J11: % | L11: %
A12: Performance de l'animateur/trice | B12: =PRODUCT(C17/B18, 100) -> #DIV/0! | C12: % | D12: =PRODUCT(E17/D18, 100) -> #DIV/0! | E12: % | F12: =PRODUCT(G17/F18, 100) -> #DIV/0! | G12: % | H12: =PRODUCT(I17/H18, 100) -> #DIV/0! | I12: % | J12: =PRODUCT(K17/J18, 100) -> #DIV/0! | K12: % | L12: =PRODUCT(M17/L18, 100) -> #DIV/0!
B13: Nbre | D13: Nbre | F13: Nbre | H13: Nbre | J13: Nbre | L13: Nbre
A14: Habiletés acquises (cote 2) | B14: =COUNTIF(Grille!F17:F34,2) -> 0 | C14: =PRODUCT(B14, 2) -> 0 | D14: =COUNTIF(Grille!F39:F53,2) -> 0 | E14: =PRODUCT(D14, 2) -> 0 | F14: =COUNTIF(Grille!F57:F70,2) -> 0 | G14: =PRODUCT(F14, 2) -> 0 | H14: =COUNTIF(Grille!F74:F77,2) -> 0 | I14: =PRODUCT(H14, 2) -> 0 | J14: =COUNTIF(Grille!F81:F88,2) -> 0 | K14: =PRODUCT(J14, 2) -> 0 | L14: =SUM(B14,D14,F14,H14,J14) -> 0 | M14: =PRODUCT(L14,2) -> 0
A15: Habiletés à renforcer (cote 1) | B15: =COUNTIF(Grille!F17:F34,1) -> 0 | C15: =PRODUCT(B15, 1) -> 0 | D15: =COUNTIF(Grille!F39:F53,1) -> 0 | E15: =PRODUCT(D15, 1) -> 0 | F15: =COUNTIF(Grille!F57:F70,1) -> 0 | G15: =PRODUCT(F15, 1) -> 0 | H15: =COUNTIF(Grille!F74:F77,1) -> 0 | I15: =PRODUCT(H15, 1) -> 0 | J15: =COUNTIF(Grille!F81:F88,1) -> 0 | K15: =PRODUCT(J15, 1) -> 0 | L15: =SUM(B15,D15,F15,H15,J15) -> 0 | M15: =PRODUCT(L15,1) -> 0
A16: Habiletés à acquérir (cote 0) | B16: =COUNTIF(Grille!F17:F34,0) -> 0 | C16: =PRODUCT(B16, 0) -> 0 | D16: =COUNTIF(Grille!F39:F53,0) -> 0 | E16: =PRODUCT(D16, 0) -> 0 | F16: =COUNTIF(Grille!F57:F70,0) -> 0 | G16: =PRODUCT(F16, 0) -> 0 | H16: =COUNTIF(Grille!F74:F77,0) -> 0 | I16: =PRODUCT(H16, 0) -> 0 | J16: =COUNTIF(Grille!F81:F88,0) -> 0 | K16: =PRODUCT(J16, 0) -> 0 | L16: =SUM(B16,D16,F16,H16,J16) -> 0 | M16: =PRODUCT(L16,0) -> 0
B17: =SUM(B14:B16) -> 0 | C17: =SUM(C14:C16) -> 0 | D17: =SUM(D14:D16) -> 0 | E17: =SUM(E14:E16) -> 0 | F17: =SUM(F14:F16) -> 0 | G17: =SUM(G14:G16) -> 0 | H17: =SUM(H14:H16) -> 0 | I17: =SUM(I14:I16) -> 0 | ... M17: =SUM(M14:M16) -> 0
B18: =PRODUCT(B17, 2) -> 0 | D18: =PRODUCT(D17, 2) -> 0 | F18: =PRODUCT(F17, 2) -> 0 | H18: =PRODUCT(H17, 2) -> 0 | J18: =PRODUCT(J17, 2) -> 0 | L18: =PRODUCT(L17, 2) -> 0
A19: Ne s'applique pas (cote 4) | B19: =COUNTIF(Grille!F7:F34,4) -> 0 | D19: =COUNTIF(Grille!F39:F53,4) -> 0 | F19: =COUNTIF(Grille!F57:F70,4) -> 0 | H19: =COUNTIF(Grille!F74:F77,4) -> 0 | J19: =COUNTIF(Grille!F81:F88,4) -> 0 | L19: =SUM(B19,D19,F19,H19,J19) -> 0
B20: =PRODUCT(12-B19) -> 12 | D20: =PRODUCT(15-D19) -> 15 | F20: =PRODUCT(14-F19) -> 14 | H20: =PRODUCT(4-H19) -> 4 | J20: =PRODUCT(8-H19) -> 8 | L20: =PRODUCT(53-L19) -> 53
A21: Autonomie du groupe (cote 3) | B21: =COUNTIF(Grille!F17:F34,3) -> 0 | D21: =COUNTIF(Grille!F39:F53,3) -> 0 | F21: =COUNTIF(Grille!F57:F70,3) -> 0 | H21: =COUNTIF(Grille!F74:F77,3) -> 0 | J21: =COUNTIF(Grille!F81:F88,3) -> 0 | L21: =SUM(B21,D21,F21,H21,J21) -> 0
A22: Nombre d'items | B22: =IF(SUM(B14:B16,B19,B21)=12,12,"NON-VALIDE") -> NON-VALIDE | D22: =IF(SUM(D14:D16,D19,D21)=15,15,"NON VALIDE") -> NON VALIDE | F22: =IF(SUM(F14:F16,F19,F21)=14,14,"NON VALIDE") -> NON VALIDE | H22: =IF(SUM(H14:H16,H19,H21)=4,4,"NON VALIDE") -> NON VALIDE | J22: =IF(SUM(J14:J16,J19,J21)=8,8,"NON VALIDE") -> NON VALIDE | L22: =IF(SUM(L14:L16,L19,L21)=53,53,"NON VALIDE") -> NON VALIDE
B23: % | D23: % | F23: % | H23: % | J23: % | L23: %
A24: Zone d'autonomie du groupe | B24: =PRODUCT(B21/B20, 100) -> 0 | C24: % | D24: =PRODUCT(D21/D20, 100) -> 0 | E24: % | F24: =PRODUCT(F21/F20, 100) -> 0 | G24: % | H24: =PRODUCT(H21/H20, 100) -> 0 | I24: % | J24: =PRODUCT(J21/J20, 100) -> 0 | K24: % | L24: =PRODUCT(L21/L20, 100) -> 0
A27: Imprimez cette page et joignez-là à votre grille d'observation

Sheet Analyse
A1: Université du Québec à Chicoutimi - Unité d'intervention en travail social
A2: Intervention auprès des groupes en travail social - Prof.: Pierre Dostie
A4: Rapport synthèse de l'observation de l'animation
A5: À joindre à votre rapport d'observation
A7: Commentaires généraux:
A10: Quel style d'animation ou de leadership se dégagent des résultats:
A13: Points forts (ce qu'il faut continuer de faire) :
A16: Points à améliorer (ce qu'il faut faire plus, faire moins, et commencer à faire) :
A19: Réflexion personnelle: quels sont les apprentissages réalisés sur le groupe, l'animation ou l'intervention en groupe?
